BEGIN:VCALENDAR
VERSION:2.0
PRODID:icalendar-ruby
CALSCALE:GREGORIAN
METHOD:PUBLISH
BEGIN:VEVENT
DTSTAMP:20260425T192743Z
UID:31-527899@myabundantlife.org
DTSTART:20260513T223000Z
DTEND:20260513T233000Z
CLASS:PUBLIC
CREATED:20260425T135339
DESCRIPTION:We invite you to join us beginning Wednesday\, May 6th at 6:30 
 PM here at the church as we study the life of Abigail\, a beautiful exampl
 e of biblical womanhood.\n1 Samuel 25 tells the remarkable story of Abigai
 l\, a wise and courageous woman who responds with discernment in the face 
 of foolish and ungodly behavior. While she may not be as widely known as w
 omen like Mary\, Deborah\, or Sarah\, her life offers powerful lessons tha
 t still speak to us today. Having just completed our study of biblical wom
 anhood in Titus 2\, we now turn to Abigail’s story to see those truths l
 ived out in real life.\nPease sign up if you plan to attend so we can have
  enough workbooks for everyone. We look forward to growing together with y
 ou!
LAST-MODIFIED:20260425T135339
LOCATION:1239 Brownfield Rd\, Uniontown\, PA  15401
SUMMARY:Wednesday Night Women's Bible Study - Abigail
URL;VALUE=URI:https://www.myabundantlife.org/events/wednesday-night-womens-
 bible-study-abigail/2026-05-13
ATTACH;FILENAME=Abigail-Presentation-43.png;FMTTYPE=image/png:https://dq5pw
 pg1q8ru0.cloudfront.net/2026/04/24/18/21/47/7ffaeea4-e762-4e49-a12b-0e16a8
 2126f9/Abigail-Presentation-43.png
END:VEVENT
END:VCALENDAR
